BEGIN:VCALENDAR
VERSION:2.0
PRODID:-//Tukios.com/
BEGIN:VEVENT
UID:106a4eef-67e9-4ac5-bec6-c2aca31cb51a@www.nuevavidafh.com
DTSTAMP:20260420T182749Z
DTSTART:20260421
SUMMARY:Velacion
DESCRIPTION:
URL:https://www.nuevavidafh.com/obituaries/celso-zapata-martinez
LOCATION: 393 VZ County Road 4418  Canton TX 75103
GEO:32.5000361;-95.7216301
END:VEVENT
END:VCALENDAR