BEGIN:VCALENDAR
VERSION:2.0
PRODID:-//Tukios.com/
BEGIN:VEVENT
UID:78fd015a-831a-4ffd-b8a2-6be7925411a4@www.nuevavidafh.com
DTSTAMP:20260425T235648Z
DTSTART:20260428T190000Z
DTEND:20260428T200000Z
SUMMARY:Burial - Sepultura
DESCRIPTION:
URL:https://www.nuevavidafh.com/obituaries/gertrudis-fernandez-maldonado
LOCATION: 1413 E Irving Blvd  Irving TX 75060
GEO:32.8093356;-96.9292291
END:VEVENT
END:VCALENDAR