BEGIN:VCALENDAR
VERSION:2.0
PRODID:-//Tukios.com/
BEGIN:VEVENT
UID:42123292-bc76-4361-af28-b47821a059f9@www.nuevavidafh.com
DTSTAMP:20260425T235806Z
DTSTART:20260428T140000Z
DTEND:20260428T180000Z
SUMMARY:Viewing - Velacion
DESCRIPTION:
URL:https://www.nuevavidafh.com/obituaries/gertrudis-fernandez-maldonado
LOCATION: 1000 W Pioneer Pkwy  Arlington TX 76013
GEO:32.7081888;-97.1183989
END:VEVENT
END:VCALENDAR