BEGIN:VCALENDAR
VERSION:2.0
PRODID:-//Tukios.com/
BEGIN:VEVENT
UID:8c817a5b-e738-4d6f-be77-1b6eba20e4c4@www.nuevavidafh.com
DTSTAMP:20260423T020958Z
DTSTART:20260423T220000Z
DTEND:20260424T010000Z
SUMMARY:Memorial Gathering
DESCRIPTION:
URL:https://www.nuevavidafh.com/obituaries/hayden-dickerson
LOCATION: 1000 W Pioneer Pkwy  Arlington TX 76013
GEO:32.7081888;-97.1183989
END:VEVENT
END:VCALENDAR