BEGIN:VCALENDAR
VERSION:2.0
PRODID:-//Tukios.com/
BEGIN:VEVENT
UID:fa8fda90-dbb9-45d0-a0d3-0395e9fa98f8@www.nuevavidafh.com
DTSTAMP:20260425T020737Z
DTSTART:20260427T190000Z
DTEND:20260428T030000Z
SUMMARY:Velacion - Viewing
DESCRIPTION:
URL:https://www.nuevavidafh.com/obituaries/jose-ochoa
LOCATION: 1000 W Pioneer Pkwy  Arlington TX 76013
GEO:32.7081888;-97.1183989
END:VEVENT
END:VCALENDAR