BEGIN:VCALENDAR
VERSION:2.0
PRODID:-//Tukios.com/
BEGIN:VEVENT
UID:67968f12-561d-4d5f-a3df-2790ec61d3f3@www.nuevavidafh.com
DTSTAMP:20260425T020651Z
DTSTART:20260427T230000Z
DTEND:20260428T000000Z
SUMMARY:Servicio Fúnebre - Funeral Service
DESCRIPTION:
URL:https://www.nuevavidafh.com/obituaries/jose-ochoa
LOCATION: 1000 W Pioneer Pkwy  Arlington TX 76013
GEO:32.7081888;-97.1183989
END:VEVENT
END:VCALENDAR